BEGIN:VCALENDAR
VERSION:2.0
PRODID:spatie/icalendar-generator
DESCRIPTION:Events from Deming Logging Show
X-WR-CALDESC:Events from Deming Logging Show
REFRESH-INTERVAL;VALUE=DURATION:PT1440M
X-PUBLISHED-TTL:PT1440M
BEGIN:VTIMEZONE
TZID:Etc/GMT+0
BEGIN:STANDARD
DTSTART:20231124T000000Z
TZOFFSETFROM:+0000
TZOFFSETTO:+0000
END:STANDARD
END:VTIMEZONE
BEGIN:VTIMEZONE
TZID:UTC
BEGIN:STANDARD
DTSTART:20250725T060851Z
TZOFFSETFROM:+0000
TZOFFSETTO:+0000
END:STANDARD
END:VTIMEZONE
BEGIN:VEVENT
UID:68-66
DTSTAMP:20260421T060851Z
SUMMARY:Grounds and all Venues Rented
LOCATION:
ORGANIZER;CN=Rentals:MAILTO:rentals@demingloggingshow.com
DTSTART;TZID=Etc/GMT+0:20240820T000000
DTEND;TZID=Etc/GMT+0:20240822T010000
X-ALT-DESC;FMTTYPE=TEXT/HTML:Elites
CATEGORIES:Entire Grounds/Venues
URL;VALUE=URI:https://www.demingloggingshow.com/mc-events/grounds-and-all-v
 enues-rented-3/
METHOD:PUBLISH
END:VEVENT
END:VCALENDAR